Workbook

Sheet Pivot 17.05
A1: Count of Code
A2: Family | B2: Total
A3: Hair curling tongs / Plaukų formavimo žnyplės | B3: 6
A4: 3D printing pens and accessories / 3D rašikliai ir jų priedai | B4: 1
A5: Abrasive grinding discs / Abrazyviniai šlifavimo diskai | B5: 2
A6: Abrasive materials / Šlifavimo medžiagos | B6: 9
A7: Abrasive pads / Šveistukai | B7: 1
A8: Abrasive pulleys / Šlifavimo skriemuliai | B8: 5
A9: Accessories for action cameras / Priedai veiksmo kameroms | B9: 2
A10: Accessories for backpacks / Priedai kuprinėms | B10: 1
A11: Accessories for car seats / Automobilinių kėdučių priedai | B11: 12
A12: Accessories for children houses, slides and playgrounds / Namelių, čiuožyklų ir aikštelių priedai | B12: 1
A13: Accessories for dogs and cats / Priedai šunims ir katėms | B13: 2
A14: Accessories for electric toothbrushes / Elektrinių dantų šepetėlių priedai | B14: 1
... A710: Grand Total | B710: 6808

Sheet FInal
A1: Family | B1: MCT | C1: SKU | D1: Comment | E1: SKU 17.05
A2: Curtains / Užuolaidos | B2: Interior | C2: 661 | D2: Must | E2: =VLOOKUP(A2,'Pivot 17.05'!A:B,2,0) -> 16
A3: Outdoor furniture liners / Lauko baldų įdėklai | B3: Furniture | C3: 583 | D3: Must | E3: =VLOOKUP(A3,'Pivot 17.05'!A:B,2,0) -> #N/A
A4: All facial care products for women / Visos veido priežiūros priemonės moterims | B4: Fragrances, Cosmetics & Hygiene | C4: 359 | D4: Must | E4: =VLOOKUP(A4,'Pivot 17.05'!A:B,2,0) -> 347
A5: Sun cream / Kremai nuo saulės | B5: Fragrances, Cosmetics & Hygiene | C5: 131 | D5: Must | E5: =VLOOKUP(A5,'Pivot 17.05'!A:B,2,0) -> 134
A6: All body care products for women / Visos kūno priežiūros priemonės moterims | B6: Fragrances, Cosmetics & Hygiene | C6: 128 | D6: Must | E6: =VLOOKUP(A6,'Pivot 17.05'!A:B,2,0) -> 123
A7: Creative kits/craft sets, science kits / Kūrybiniai, moksliniai rinkiniai | B7: Toys and Games | C7: 109 | E7: =VLOOKUP(A7,'Pivot 17.05'!A:B,2,0) -> 87
A8: TV sets / Televizoriai | B8: Electronics - IT | C8: 100 | D8: 50/50 | E8: =VLOOKUP(A8,'Pivot 17.05'!A:B,2,0) -> 109
A9: All hair care products for women / Visos plaukų priežiūros priemonės moterims | B9: Fragrances, Cosmetics & Hygiene | C9: 78 | D9: Must | E9: =VLOOKUP(A9,'Pivot 17.05'!A:B,2,0) -> 80
A10: Video surveillance cameras / Vaizdo stebėjimo kameros | B10: Photo Equipment | C10: 77 | D10: Must | E10: =VLOOKUP(A10,'Pivot 17.05'!A:B,2,0) -> 76
A11: Monitors / Monitoriai | B11: Electronics - IT | C11: 72 | D11: Must | E11: =VLOOKUP(A11,'Pivot 17.05'!A:B,2,0) -> 70
A12: Smart watches and bracelets / Išmanieji laikrodžiai ir apyrankės | B12: Electronics - CE | C12: 65 | D12: Must | E12: =VLOOKUP(A12,'Pivot 17.05'!A:B,2,0) -> 71
A13: Toy blocks / Konstruktoriai | B13: Toys and Games | C13: 65 | E13: =VLOOKUP(A13,'Pivot 17.05'!A:B,2,0) -> 33
A14: Motherboards / Pagrindinės plokštės | B14: Electronics - IT | C14: 61 | D14: Must | E14: =VLOOKUP(A14,'Pivot 17.05'!A:B,2,0) -> 49
A15: Educational toys / Lavinamieji žaislai | B15: Toys and Games | C15: 54 | E15: =VLOOKUP(A15,'Pivot 17.05'!A:B,2,0) -> 63
A16: Internal hard drives / Vidiniai kietieji diskai | B16: Electronics - IT | C16: 49 | D16: Must | E16: =VLOOKUP(A16,'Pivot 17.05'!A:B,2,0) -> 6
A17: Operating memory (RAM) / Operatyvinė atmintis (RAM) | B17: Electronics - IT | C17: 46 | D17: Must | E17: =VLOOKUP(A17,'Pivot 17.05'!A:B,2,0) -> 2
A18: Computer housings / Kompiuterių korpusai | B18: Electronics - IT | C18: 43 | D18: Must | E18: =VLOOKUP(A18,'Pivot 17.05'!A:B,2,0) -> 44
A19: Microphones / Mikrofonai | B19: Electronics - IT | C19: 43 | D19: Must | E19: =VLOOKUP(A19,'Pivot 17.05'!A:B,2,0) -> 46
A20: Mobile phones / Mobilieji telefonai | B20: Electronics - CE | C20: 43 | D20: Must | E20: =VLOOKUP(A20,'Pivot 17.05'!A:B,2,0) -> 46
A21: Tablets / Planšetiniai kompiuteriai | B21: Electronics - IT | C21: 37 | D21: Must | E21: =VLOOKUP(A21,'Pivot 17.05'!A:B,2,0) -> 42
A22: Baby beddings and cot protectors / Kūdikių patalynė ir lovytės apsaugos | B22: Baby Products | C22: 36 | E22: =VLOOKUP(A22,'Pivot 17.05'!A:B,2,0) -> 7
A23: Cameras / Fotoaparatai | B23: Photo Equipment | C23: 33 | D23: Must | E23: =VLOOKUP(A23,'Pivot 17.05'!A:B,2,0) -> 35
A24: Mouse pads / Pelės kilimėliai | B24: Electronics - IT | C24: 32 | D24: Must | E24: =VLOOKUP(A24,'Pivot 17.05'!A:B,2,0) -> #N/A
A25: PSU / Maitinimo blokai (PSU) | B25: Electronics - IT | C25: 29 | D25: Must | E25: =VLOOKUP(A25,'Pivot 17.05'!A:B,2,0) -> 32
A26: Shower cubicles / Dušo kabinos | B26: Plumbing & Heating | C26: 29 | E26: =VLOOKUP(A26,'Pivot 17.05'!A:B,2,0) -> 11
A27: Plastic dishes and tools / Plastikiniai indai ir įrankiai | B27: Baby Products | C27: 28 | E27: =VLOOKUP(A27,'Pivot 17.05'!A:B,2,0) -> 26
A28: Steering wheels, game consoles for computers / Vairai, žaidimų pulteliai kompiuteriams | B28: Electronics - IT | C28: 27 | D28: Must | E28: =VLOOKUP(A28,'Pivot 17.05'!A:B,2,0) -> 28
A29: Network hubs / Tinklo šakotuvai | B29: Electronics - IT | C29: 26 | D29: Must | E29: =VLOOKUP(A29,'Pivot 17.05'!A:B,2,0) -> 27
A30: Shelves and kitchen cabinets / Lentynėlės ir virtuvinės spintelės | B30: Furniture | C30: 26 | D30: Must | E30: =VLOOKUP(A30,'Pivot 17.05'!A:B,2,0) -> #N/A
A31: Carpets and carpet runners / Kiliminė danga ir kiliminiai takai | B31: Finishing Materials | C31: 25 | D31: Must | E31: =VLOOKUP(A31,'Pivot 17.05'!A:B,2,0) -> #N/A
A32: Chargeable torches / Žibintuvėliai su akumuliatoriais | B32: Lighting | C32: 25 | E32: =VLOOKUP(A32,'Pivot 17.05'!A:B,2,0) -> 25
A33: Electric, remote controlled toys / Elektriniai, valdomi žaislai | B33: Toys and Games | C33: 24 | E33: =VLOOKUP(A33,'Pivot 17.05'!A:B,2,0) -> 13
A34: Keyboards / Klaviatūros | B34: Electronics - CE | C34: 24 | D34: Must | E34: =VLOOKUP(A34,'Pivot 17.05'!A:B,2,0) -> 8
A35: Pliers / Replės | B35: Tools & Accessories | C35: 24 | E35: =VLOOKUP(A35,'Pivot 17.05'!A:B,2,0) -> 27
A36: Scooters and their parts / Paspirtukai ir jų dalys | B36: Sports, Leisure & Tourism | C36: 24 | D36: Must | E36: =VLOOKUP(A36,'Pivot 17.05'!A:B,2,0) -> 2
A37: Fridges / Šaldytuvai | B37: HA - Major domestic appliances | C37: 23 | E37: =VLOOKUP(A37,'Pivot 17.05'!A:B,2,0) -> 30
A38: Furniture accessories / Baldų priedai | B38: Furniture | C38: 23 | D38: Must | E38: =VLOOKUP(A38,'Pivot 17.05'!A:B,2,0) -> #N/A
A39: Liquid cooling system accessories / Skysčio aušinimo sistemos priedai | B39: Electronics - IT | C39: 23 | D39: Must | E39: =VLOOKUP(A39,'Pivot 17.05'!A:B,2,0) -> 25
A40: Shelves, drawer chests, drawer blocks / Lentynos, komodos, stalčių blokai | B40: Furniture | C40: 21 | D40: Must | E40: =VLOOKUP(A40,'Pivot 17.05'!A:B,2,0) -> #N/A
...
