Workbook

Sheet Pivot 17.05
A1: Count of Code
A2: Family | B2: Total
A3: Hair curling tongs / Plaukų formavimo žnyplės | B3: 6
A4: 3D printing pens and accessories / 3D rašikliai ir jų priedai | B4: 1
A5: Abrasive grinding discs / Abrazyviniai šlifavimo diskai | B5: 2
A6: Abrasive materials / Šlifavimo medžiagos | B6: 9
A7: Abrasive pads / Šveistukai | B7: 1
A8: Abrasive pulleys / Šlifavimo skriemuliai | B8: 5
A9: Accessories for action cameras / Priedai veiksmo kameroms | B9: 2
A10: Accessories for backpacks / Priedai kuprinėms | B10: 1
A11: Accessories for car seats / Automobilinių kėdučių priedai | B11: 12
A12: Accessories for children houses, slides and playgrounds / Namelių, čiuožyklų ir aikštelių priedai | B12: 1
A13: Accessories for dogs and cats / Priedai šunims ir katėms | B13: 2
A14: Accessories for electric toothbrushes / Elektrinių dantų šepetėlių priedai | B14: 1
... A710: Grand Total | B710: 6808

Sheet FInal
A1: Family | B1: MCT | C1: SKU | D1: Comment | E1: SKU 17.05
A2: Curtains / Užuolaidos | B2: Interior | C2: 661 | D2: Must | E2: =VLOOKUP(A2,'Pivot 17.05'!A:B,2,0) -> 16
A3: Outdoor furniture liners / Lauko baldų įdėklai | B3: Furniture | C3: 583 | D3: Must | E3: =VLOOKUP(A3,'Pivot 17.05'!A:B,2,0) -> #N/A
A4: All facial care products for women / Visos veido priežiūros priemonės moterims | B4: Fragrances, Cosmetics & Hygiene | C4: 359 | D4: Must | E4: =VLOOKUP(A4,'Pivot 17.05'!A:B,2,0) -> 347
A5: Sun cream / Kremai nuo saulės | B5: Fragrances, Cosmetics & Hygiene | C5: 131 | D5: Must | E5: =VLOOKUP(A5,'Pivot 17.05'!A:B,2,0) -> 134
A6: All body care products for women / Visos kūno priežiūros priemonės moterims | B6: Fragrances, Cosmetics & Hygiene | C6: 128 | D6: Must | E6: =VLOOKUP(A6,'Pivot 17.05'!A:B,2,0) -> 123
A7: Creative kits/craft sets, science kits / Kūrybiniai, moksliniai rinkiniai | B7: Toys and Games | C7: 109 | E7: =VLOOKUP(A7,'Pivot 17.05'!A:B,2,0) -> 87
A8: TV sets / Televizoriai | B8: Electronics - IT | C8: 100 | D8: 50/50 | E8: =VLOOKUP(A8,'Pivot 17.05'!A:B,2,0) -> 109
A9: All hair care products for women / Visos plaukų priežiūros priemonės moterims | B9: Fragrances, Cosmetics & Hygiene | C9: 78 | D9: Must | E9: =VLOOKUP(A9,'Pivot 17.05'!A:B,2,0) -> 80
A10: Video surveillance cameras / Vaizdo stebėjimo kameros | B10: Photo Equipment | C10: 77 | D10: Must | E10: =VLOOKUP(A10,'Pivot 17.05'!A:B,2,0) -> 76
A11: Monitors / Monitoriai | B11: Electronics - IT | C11: 72 | D11: Must | E11: =VLOOKUP(A11,'Pivot 17.05'!A:B,2,0) -> 70
A12: Smart watches and bracelets / Išmanieji laikrodžiai ir apyrankės | B12: Electronics - CE | C12: 65 | D12: Must | E12: =VLOOKUP(A12,'Pivot 17.05'!A:B,2,0) -> 71
A13: Toy blocks / Konstruktoriai | B13: Toys and Games | C13: 65 | E13: =VLOOKUP(A13,'Pivot 17.05'!A:B,2,0) -> 33
A14: Motherboards / Pagrindinės plokštės | B14: Electronics - IT | C14: 61 | D14: Must | E14: =VLOOKUP(A14,'Pivot 17.05'!A:B,2,0) -> 49
A15: Educational toys / Lavinamieji žaislai | B15: Toys and Games | C15: 54 | E15: =VLOOKUP(A15,'Pivot 17.05'!A:B,2,0) -> 63
A16: Internal hard drives / Vidiniai kietieji diskai | B16: Electronics - IT | C16: 49 | D16: Must | E16: =VLOOKUP(A16,'Pivot 17.05'!A:B,2,0) -> 6
A17: Operating memory (RAM) / Operatyvinė atmintis (RAM) | B17: Electronics - IT | C17: 46 | D17: Must | E17: =VLOOKUP(A17,'Pivot 17.05'!A:B,2,0) -> 2
A18: Computer housings / Kompiuterių korpusai | B18: Electronics - IT | C18: 43 | D18: Must | E18: =VLOOKUP(A18,'Pivot 17.05'!A:B,2,0) -> 44
A19: Microphones / Mikrofonai | B19: Electronics - IT | C19: 43 | D19: Must | E19: =VLOOKUP(A19,'Pivot 17.05'!A:B,2,0) -> 46
A20: Mobile phones / Mobilieji telefonai | B20: Electronics - CE | C20: 43 | D20: Must | E20: =VLOOKUP(A20,'Pivot 17.05'!A:B,2,0) -> 46
A21: Tablets / Planšetiniai kompiuteriai | B21: Electronics - IT | C21: 37 | D21: Must | E21: =VLOOKUP(A21,'Pivot 17.05'!A:B,2,0) -> 42
A22: Baby beddings and cot protectors / Kūdikių patalynė ir lovytės apsaugos | B22: Baby Products | C22: 36 | E22: =VLOOKUP(A22,'Pivot 17.05'!A:B,2,0) -> 7
A23: Cameras / Fotoaparatai | B23: Photo Equipment | C23: 33 | D23: Must | E23: =VLOOKUP(A23,'Pivot 17.05'!A:B,2,0) -> 35
A24: Mouse pads / Pelės kilimėliai | B24: Electronics - IT | C24: 32 | D24: Must | E24: =VLOOKUP(A24,'Pivot 17.05'!A:B,2,0) -> #N/A
A25: PSU / Maitinimo blokai (PSU) | B25: Electronics - IT | C25: 29 | D25: Must | E25: =VLOOKUP(A25,'Pivot 17.05'!A:B,2,0) -> 32
A26: Shower cubicles / Dušo kabinos | B26: Plumbing & Heating | C26: 29 | E26: =VLOOKUP(A26,'Pivot 17.05'!A:B,2,0) -> 11
A27: Plastic dishes and tools / Plastikiniai indai ir įrankiai | B27: Baby Products | C27: 28 | E27: =VLOOKUP(A27,'Pivot 17.05'!A:B,2,0) -> 26
A28: Steering wheels, game consoles for computers / Vairai, žaidimų pulteliai kompiuteriams | B28: Electronics - IT | C28: 27 | D28: Must | E28: =VLOOKUP(A28,'Pivot 17.05'!A:B,2,0) -> 28
A29: Network hubs / Tinklo šakotuvai | B29: Electronics - IT | C29: 26 | D29: Must | E29: =VLOOKUP(A29,'Pivot 17.05'!A:B,2,0) -> 27
A30: Shelves and kitchen cabinets / Lentynėlės ir virtuvinės spintelės | B30: Furniture | C30: 26 | D30: Must | E30: =VLOOKUP(A30,'Pivot 17.05'!A:B,2,0) -> #N/A
A31: Carpets and carpet runners / Kiliminė danga ir kiliminiai takai | B31: Finishing Materials | C31: 25 | D31: Must | E31: =VLOOKUP(A31,'Pivot 17.05'!A:B,2,0) -> #N/A
A32: Chargeable torches / Žibintuvėliai su akumuliatoriais | B32: Lighting | C32: 25 | E32: =VLOOKUP(A32,'Pivot 17.05'!A:B,2,0) -> 25
A33: Electric, remote controlled toys / Elektriniai, valdomi žaislai | B33: Toys and Games | C33: 24 | E33: =VLOOKUP(A33,'Pivot 17.05'!A:B,2,0) -> 13
A34: Keyboards / Klaviatūros | B34: Electronics - CE | C34: 24 | D34: Must | E34: =VLOOKUP(A34,'Pivot 17.05'!A:B,2,0) -> 8
A35: Pliers / Replės | B35: Tools & Accessories | C35: 24 | E35: =VLOOKUP(A35,'Pivot 17.05'!A:B,2,0) -> 27
A36: Scooters and their parts / Paspirtukai ir jų dalys | B36: Sports, Leisure & Tourism | C36: 24 | D36: Must | E36: =VLOOKUP(A36,'Pivot 17.05'!A:B,2,0) -> 2
A37: Fridges / Šaldytuvai | B37: HA - Major domestic appliances | C37: 23 | E37: =VLOOKUP(A37,'Pivot 17.05'!A:B,2,0) -> 30
A38: Furniture accessories / Baldų priedai | B38: Furniture | C38: 23 | D38: Must | E38: =VLOOKUP(A38,'Pivot 17.05'!A:B,2,0) -> #N/A
A39: Liquid cooling system accessories / Skysčio aušinimo sistemos priedai | B39: Electronics - IT | C39: 23 | D39: Must | E39: =VLOOKUP(A39,'Pivot 17.05'!A:B,2,0) -> 25
A40: Shelves, drawer chests, drawer blocks / Lentynos, komodos, stalčių blokai | B40: Furniture | C40: 21 | D40: Must | E40: =VLOOKUP(A40,'Pivot 17.05'!A:B,2,0) -> #N/A
A41: Web cam / Internetinės kameros | B41: Electronics - IT | C41: 21 | D41: Must | E41: =VLOOKUP(A41,'Pivot 17.05'!A:B,2,0) -> 29
A42: Baby body care products / Kūdikių kūno priežiūros priemonės | B42: Baby Products | C42: 19 | E42: =VLOOKUP(A42,'Pivot 17.05'!A:B,2,0) -> 1
A43: Beard trimmers / Barzdaskutės | B43: HA - Small Domestic appliances | C43: 19 | E43: =VLOOKUP(A43,'Pivot 17.05'!A:B,2,0) -> 19
A44: Lenses / Objektyvai | B44: Photo Equipment | C44: 19 | D44: Must | E44: =VLOOKUP(A44,'Pivot 17.05'!A:B,2,0) -> 17
A45: Sand toys / Smėlio žaislai | B45: Toys and Games | C45: 19 | E45: =VLOOKUP(A45,'Pivot 17.05'!A:B,2,0) -> 4
A46: Watering hose connectors / Laistymo žarnų jungtys | B46: Outdoors | C46: 19 | D46: Must | E46: =VLOOKUP(A46,'Pivot 17.05'!A:B,2,0) -> 19
A47: Wireless speakers / Belaidės kolonėlės | B47: Electronics - CE | C47: 19 | D47: Must | E47: =VLOOKUP(A47,'Pivot 17.05'!A:B,2,0) -> 28
A48: Perfume / Kvepalai | B48: Fragrances, Cosmetics & Hygiene | C48: 18 | D48: Must | E48: =VLOOKUP(A48,'Pivot 17.05'!A:B,2,0) -> 1
A49: Routers / Maršrutizatoriai | B49: Electronics - IT | C49: 18 | D49: Must | E49: =VLOOKUP(A49,'Pivot 17.05'!A:B,2,0) -> 19
A50: Bathrobes / Chalatai | B50: Interior | C50: 16 | D50: Must | E50: =VLOOKUP(A50,'Pivot 17.05'!A:B,2,0) -> #N/A
A51: Inflatable Wheels / Pripučiami ratai | B51: Sports, Leisure & Tourism | C51: 16 | D51: Must | E51: =VLOOKUP(A51,'Pivot 17.05'!A:B,2,0) -> #N/A
A52: Baths and their accessories / Vonelės ir jų priedai | B52: Baby Products | C52: 14 | E52: =VLOOKUP(A52,'Pivot 17.05'!A:B,2,0) -> 4
A53: Charges for rechargeable battery cells / Kraunamų elementų krovikliai | B53: Electronics - CE | C53: 14 | D53: Must | E53: =VLOOKUP(A53,'Pivot 17.05'!A:B,2,0) -> 14
A54: Coffee, TV tables / Kavos, televizorių staliukai | B54: Furniture | C54: 14 | D54: Must | E54: =VLOOKUP(A54,'Pivot 17.05'!A:B,2,0) -> #N/A
A55: Cordless Hedge Trimmers / Akumuliatorinės gyvatvorių žirklės | B55: Outdoors | C55: 14 | D55: Must | E55: =VLOOKUP(A55,'Pivot 17.05'!A:B,2,0) -> 14
A56: Toolboxes / Įrankių dėžės | B56: Tools & Accessories | C56: 14 | E56: =VLOOKUP(A56,'Pivot 17.05'!A:B,2,0) -> 14
A57: Wardrobes and cabinets / Spintos ir spintelės | B57: Furniture | C57: 14 | D57: Must | E57: =VLOOKUP(A57,'Pivot 17.05'!A:B,2,0) -> #N/A
A58: Building knives / Statybiniai peiliai | B58: Tools & Accessories | C58: 13 | E58: =VLOOKUP(A58,'Pivot 17.05'!A:B,2,0) -> 13
A59: Diapers / Sauskelnės | B59: Baby Products | C59: 13 | E59: =VLOOKUP(A59,'Pivot 17.05'!A:B,2,0) -> #N/A
A60: Floodlights / Prožektoriai | B60: Lighting | C60: 13 | E60: =VLOOKUP(A60,'Pivot 17.05'!A:B,2,0) -> 22
A61: Hoes, weeders, ridgers / Kauptukai, ravėtuvai, vagotuvai | B61: Outdoors | C61: 13 | D61: Must | E61: =VLOOKUP(A61,'Pivot 17.05'!A:B,2,0) -> 13
A62: Petrol lawn mowers / Benzininės vejapjovės | B62: Outdoors | C62: 13 | D62: Must | E62: =VLOOKUP(A62,'Pivot 17.05'!A:B,2,0) -> 15
A63: Smart houses / Išmanieji namai | B63: Electronics - IT | C63: 13 | D63: Must | E63: =VLOOKUP(A63,'Pivot 17.05'!A:B,2,0) -> 29
A64: Vases / Vazos | B64: Outdoors | C64: 13 | D64: Must | E64: =VLOOKUP(A64,'Pivot 17.05'!A:B,2,0) -> 13
A65: Chamber pots and fittings / Naktipuodžiai ir jų priedai | B65: Baby Products | C65: 12 | E65: =VLOOKUP(A65,'Pivot 17.05'!A:B,2,0) -> 1
A66: Coolers / Aušintuvai | B66: Electronics - IT | C66: 12 | D66: Must | E66: =VLOOKUP(A66,'Pivot 17.05'!A:B,2,0) -> 24
A67: Dining tables / Valgomojo stalai | B67: Furniture | C67: 12 | D67: Must | E67: =VLOOKUP(A67,'Pivot 17.05'!A:B,2,0) -> #N/A
A68: Garden decorating tools / Sodo dekoravimo priemonės | B68: Outdoors | C68: 12 | D68: Must | E68: =VLOOKUP(A68,'Pivot 17.05'!A:B,2,0) -> #N/A
A69: Graphic Tablets / Grafinės planšetės | B69: Electronics - CE | C69: 12 | D69: Must | E69: =VLOOKUP(A69,'Pivot 17.05'!A:B,2,0) -> 13
A70: Padlocks for bicycles, locks for furniture and postboxes / Kabinamos, uždėtinės, dviračių, baldų, pašto dėžučių spynos | B70: Building Materials | C70: 12 | D70: Must | E70: =VLOOKUP(A70,'Pivot 17.05'!A:B,2,0) -> 22
A71: Perfume sets / Kvepalų rinkiniai | B71: Fragrances, Cosmetics & Hygiene | C71: 12 | D71: Must | E71: =VLOOKUP(A71,'Pivot 17.05'!A:B,2,0) -> 14
A72: Pillows, cushions / Pagalvės, pagalvėlės | B72: Interior | C72: 12 | D72: Must | E72: =VLOOKUP(A72,'Pivot 17.05'!A:B,2,0) -> 11
A73: Telescopes / Teleskopai | B73: Photo Equipment | C73: 12 | D73: Must | E73: =VLOOKUP(A73,'Pivot 17.05'!A:B,2,0) -> 12
A74: Watering hoses / Laistymo žarnos | B74: Outdoors | C74: 12 | D74: Must | E74: =VLOOKUP(A74,'Pivot 17.05'!A:B,2,0) -> 12
A75: Bicycle Accessories / Dviračių priedai | B75: Sports, Leisure & Tourism | C75: 11 | D75: Must | E75: =VLOOKUP(A75,'Pivot 17.05'!A:B,2,0) -> 2
A76: Cordless lawn mowers / Akumuliatorinės vejapjovės | B76: Outdoors | C76: 11 | D76: Must | E76: =VLOOKUP(A76,'Pivot 17.05'!A:B,2,0) -> 11
A77: Electric chain saws / Elektriniai grandininiai pjūklai | B77: Outdoors | C77: 11 | D77: Must | E77: =VLOOKUP(A77,'Pivot 17.05'!A:B,2,0) -> 14
A78: Hi-Fi speakers / Hi-Fi kolonėlės | B78: Electronics - CE | C78: 11 | D78: Must | E78: =VLOOKUP(A78,'Pivot 17.05'!A:B,2,0) -> 13
A79: Mechanical tool kits / Mechaninių įrankių komplektai | B79: Tools & Accessories | C79: 11 | E79: =VLOOKUP(A79,'Pivot 17.05'!A:B,2,0) -> 14
A80: Other computer parts / Kitos kompiuterių dalys | B80: Electronics - IT | C80: 11 | D80: Must | E80: =VLOOKUP(A80,'Pivot 17.05'!A:B,2,0) -> 11
A81: Body care products for men / Kūno priežiūros priemonės vyrams | B81: Fragrances, Cosmetics & Hygiene | C81: 10 | E81: =VLOOKUP(A81,'Pivot 17.05'!A:B,2,0) -> 10
A82: Clothes hangers / Drabužių kabyklos | B82: Furniture | C82: 10 | D82: Must | E82: =VLOOKUP(A82,'Pivot 17.05'!A:B,2,0) -> #N/A
A83: Headphones / Ausinės | B83: Electronics - CE | C83: 10 | D83: Must | E83: =VLOOKUP(A83,'Pivot 17.05'!A:B,2,0) -> 32
A84: Protectors / Apsaugos priemonės | B84: Sports, Leisure & Tourism | C84: 10 | D84: Must | E84: =VLOOKUP(A84,'Pivot 17.05'!A:B,2,0) -> 2
A85: Roller skates / Riedučiai | B85: Sports, Leisure & Tourism | C85: 10 | D85: Must | E85: =VLOOKUP(A85,'Pivot 17.05'!A:B,2,0) -> #N/A
A86: Tourist goods, camping accessories / Turistinių prekių, reikmenų priedai, aksesuarai | B86: Sports, Leisure & Tourism | C86: 10 | D86: Must | E86: =VLOOKUP(A86,'Pivot 17.05'!A:B,2,0) -> #N/A
A87: Various inflatable leisure goods / Įvairios pripučiamos laisvalaikio prekės | B87: Sports, Leisure & Tourism | C87: 10 | D87: Must | E87: =VLOOKUP(A87,'Pivot 17.05'!A:B,2,0) -> #N/A
A88: Various small furniture fittings / Įvairi smulki baldų furnitūra | B88: Furniture | C88: 10 | D88: Must | E88: =VLOOKUP(A88,'Pivot 17.05'!A:B,2,0) -> 11
A89: Bathroom cabinets and closets / Vonios spintos ir spintelės | B89: Furniture | C89: 9 | D89: Must | E89: =VLOOKUP(A89,'Pivot 17.05'!A:B,2,0) -> 6
A90: Children's chairs / Vaikiškos kėdės | B90: Furniture | C90: 9 | D90: Must | E90: =VLOOKUP(A90,'Pivot 17.05'!A:B,2,0) -> #N/A
A91: Desks / Rašomieji stalai | B91: Furniture | C91: 9 | D91: Must | E91: =VLOOKUP(A91,'Pivot 17.05'!A:B,2,0) -> #N/A
A92: Furniture sets / Baldų komplektai | B92: Furniture | C92: 9 | D92: Must | E92: =VLOOKUP(A92,'Pivot 17.05'!A:B,2,0) -> #N/A
A93: Hose wrapping equipment / Žarnų vyniojimo įranga | B93: Outdoors | C93: 9 | D93: Must | E93: =VLOOKUP(A93,'Pivot 17.05'!A:B,2,0) -> 9
... A100: Mower parts and accessories / Žoliapjovių dalys ir priedai | B100: Outdoors | C100: 8 | D100: Must | E100: =VLOOKUP(A100,'Pivot 17.05'!A:B,2,0) -> 10
A101: Tool batteries / Įrankių akumuliatoriai | B101: Tools & Accessories | C101: 8 | E101: =VLOOKUP(A101,'Pivot 17.05'!A:B,2,0) -> 25
A102: Battery powered drill screwdrivers / Akumuliatoriniai suktuvai-gręžtuvai | B102: Tools & Accessories | C102: 7 | E102: =VLOOKUP(A102,'Pivot 17.05'!A:B,2,0) -> 11
A103: Construction saws / Statybiniai pjūklai | B103: Tools & Accessories | C103: 7 | E103: =VLOOKUP(A103,'Pivot 17.05'!A:B,2,0) -> 7
A104: Food for rodents / Graužikų pašaras | B104: Pet Products | C104: 7 | D104: Must | E104: =VLOOKUP(A104,'Pivot 17.05'!A:B,2,0) -> 7
A105: Music centres, radios / Muzikos centrai, magnetolos | B105: Electronics - CE | C105: 7 | D105: Must | E105: =VLOOKUP(A105,'Pivot 17.05'!A:B,2,0) -> 8
A106: Other barbecue accessories / Kiti grilių priedai | B106: Sports, Leisure & Tourism | C106: 7 | D106: Must | E106: =VLOOKUP(A106,'Pivot 17.05'!A:B,2,0) -> #N/A
...
